BEGIN:VCALENDAR
VERSION:2.0
PRODID:icalendar-ruby
CALSCALE:GREGORIAN
METHOD:PUBLISH
BEGIN:VEVENT
DTSTAMP:20260425T193329Z
UID:118-2525341@goodnewschurchga.com
DTSTART:20260502T210000Z
DTEND:20260503T010000Z
CLASS:PUBLIC
CREATED:20260415T202013
DESCRIPTION:The Good News Church Spring BBQ Dinner\, Hangout &amp\; Bonfire
  will be on Saturday\, May 2 (5pm - 9pm). This is always a fun time to jus
 t hang out and enjoy time together.  Be sure to mark your calendar. Invit
 e friends and come join us! \nWHAT TO BRING\nWe'll provide smoked BBQ por
 k and chicken\, chips\, S'mores stuff\, sodas\, juice boxes\, and bottled 
 waters. If you'd like\, you can bring a side or a dessert to share. Feel f
 ree to bring your own beer\, wine\, etc. We have plenty of seating and fol
 ding chairs\, but you may also want to bring your favorite tailgate chairs
 .\nBBQ  MEAT SMOKERS NEEDED\nLet Drue know if you're willing to smoke a p
 ork butt or two.  We'll cover your cost. \nFor questions or to volunteer
 \, email laura@goodnewschurchga.com or drue@goodnewschurchga.com. 
LAST-MODIFIED:20260415T202013
LOCATION:Hillside Retreat House (5879 Hillside Farm Rd.\, Sugar Hill\, GA 3
 0518)
SUMMARY:"Hangout at Hillside" Spring Social
URL;VALUE=URI:https://goodnewschurchga.com/events/hangout-at-hillside-sprin
 g-social/2026-05-02
ATTACH;FILENAME=Screenshot 2026-04-13 at 3.24.35 PM.png;FMTTYPE=image/png
 :https://dq5pwpg1q8ru0.cloudfront.net/2026/04/13/19/25/26/fb36b351-f97e-40
 d9-b261-1e7b61cca58b/Screenshot%202026-04-13%20at%203.24.35%E2%80%AFPM.png
END:VEVENT
END:VCALENDAR
